Workbook

Sheet 附表一
A1: 附表一
A2: 课程计划进程表
A3: 课程性质 | C3: 学分修读要求 | D3: 课程 中文名称 | E3: 课程 英文名称 | F3: 课程学分、学时分配 | J3: 各学年、学期每周课内学时
F4: 学分 | G4: 总学时 | H4: 讲授学时 | I4: 实践学时 | J4: 1学年 | L4: 2学年 | N4: 3学年 | P4: 4学年
J5: 1 | K5: 2 | L5: 3 | M5: 4 | N5: 5 | O5: 6 | P5: 7 | Q5: 8
A6: 公共 必修 | B6: 大学英语课 | C6: 49 | D6: 大学英语（一） | E6: College English I | F6: 3 | G6: =F6*18 -> 54 | H6: 54 | I6: 0 | J6: 3
D7: 大学英语（二） | E7: College English Ⅱ | F7: 4 | G7: =F7*18 -> 72 | H7: 72 | I7: 0 | K7: 4
D8: 大学英语（三） | E8: College English Ⅲ | F8: 3 | G8: =F8*18 -> 54 | H8: 54 | I8: 0 | L8: 3
D9: 大学英语（四） | E9: College English Ⅳ | F9: 2 | G9: =F9*18 -> 36 | H9: 36 | I9: 0 | M9: 2
B10: 大学体育课 | D10: 大学体育（一） | E10: Physical Education (1) | F10: 1 | G10: 36 | H10: 4 | I10: 32 | J10: 2
D11: 大学体育（二） | E11: Physical Education (2) | F11: 1 | G11: 36 | H11: 4 | I11: 32 | K11: 2
D12: 大学体育（三） | E12: Physical Education (3) | F12: 1 | G12: 36 | H12: 4 | I12: 32 | L12: 2
D13: 大学体育（四） | E13: Physical Education (4) | F13: 1 | G13: 36 | H13: 4 | I13: 32 | M13: 2
B14: 思政必修课 | D14: 思想道德与法治 | E14: Ideological Morality and Rule of Law | F14: 3 | G14: 54 | H14: 54 | I14: 0 | K14: 3
D15: 中国近现代史纲要 | E15: Survey of Chinese Modern History | F15: 3 | G15: 54 | H15: 54 | I15: 0 | J15: 3
D16: 马克思主义基本原理 | E16: Basic Principles of Marxism | F16: 3 | G16: 54 | H16: 54 | I16: 0 | L16: 3
D17: 毛泽东思想和中国特色社会主义理论体系概论 | E17: Introduction to the Theoretical System of Socialism with Chinese Characteristics and Mao Zedong Thought | F17: 3 | G17: 54 | H17: 36 | I17: 18 | M17: 3
D18: 习近平新时代中国特色社会主义思想概论 | E18: Introduction to Xi Jinping's Socialist Thought with Chinese Characteristics for a New Era | F18: 3 | G18: 54 | H18: 54 | I18: 0 | M18: 3
D19: 国家安全教育 | E19: National Security Education | F19: 1 | G19: 18 | H19: 18 | I19: 0 | K19: 1
D20: 形势与政策 | E20: Situation and Policy | F20: 2 | G20: 36 | H20: 36 | I20: 0 | O20: 2
B21: 通识必修课 | D21: 人文价值 | E21: 选修4学分：其中人文价值2学分；全球视野、科技应用和交叉创新选择2个模块，2学分 | F21: 1 | G21: 18 | H21: 18 | I21: 0 | J21: 1
D22: 全球视野 | F22: 1 | G22: 18 | H22: 18 | I22: 0 | K22: 1
D23: 科技应用 | F23: 1 | G23: 18 | H23: 18 | I23: 0 | L23: 1
D24: 交叉创新 | F24: 1 | G24: 18 | H24: 18 | I24: 0 | M24: 1
D25: 军事理论 | E25: Military Theory | F25: 2 | G25: 36 | H25: 36 | I25: 0 | J25: 2
D26: 军事技能 | E26: Military Skills | F26: 2 | G26: 112 | H26: 0 | I26: 112 | J26: 2周(共112)
D27: 大学生心理健康教育 | E27: Mental Health Education of College Students | F27: 2 | G27: 36 | H27: 36 | I27: 0 | K27: 2
D28: 创业基础（理论） | E28: Foundation of Establishing a Business (Theory) | F28: 1 | G28: 18 | H28: 18 | I28: 0 | M28: 1
D29: 创业基础（实践） | E29: Basics of Creating Enterprise (Practice) | F29: 2 | G29: 40 | H29: 0 | I29: 40 | N29: 4 （ 10周）
B30: 劳动教育课 | D30: 劳动教育 | E30: Labor Education | F30: 2 | G30: 36 | H30: 20 | I30: 16 | L30: 2
A31: 公共必修应修学分（学时）合计 | F31: =SUM(F6:F30) -> 49 | G31: =SUM(G6:G30) -> 1034 | H31: =SUM(H6:H30) -> 720 | I31: =SUM(I6:I30) -> 314 | J31: 12 | K31: 12 | L31: 10 | M31: 11 | N31: 2 | O31: 2 | P31: 0 | Q31: 0
A32: 公共 选修 | B32: 美育限定性选修课 | C32: 美育限定性选修课须修读满2学分
B33: 校级公选课、学术报告型公选课、社会实践活动认定 | C33: 校级公选课、学术报告型公选课、社会实践活动认定须修读满6学分
A34: 公共选修应修学分（学时）合计 | F34: 8 | G34: 145 | H34: 101 | I34: 44
A35: 专业 必修 | B35: 专业基础课 | C35: 25 | D35: 数学分析Ⅰ | E35: Mathematical Analysis Ⅰ | F35: 4 | G35: 72 | H35: 72 | I35: 0 | J35: 4
D36: 数学分析Ⅱ | E36: Mathematical Analysis Ⅱ | F36: 5 | G36: 90 | H36: 90 | I36: 0 | K36: 5
D37: 数学分析Ⅲ | E37: Mathematical Analysis Ⅲ | F37: 4 | G37: 72 | H37: 72 | I37: 0 | L37: 4
D38: 高等代数Ⅰ | E38: Advanced Algebra Ⅰ | F38: 3 | G38: 54 | H38: 54 | I38: 0 | J38: 3
D39: 高等代数Ⅱ | E39: Advanced Algebra Ⅱ | F39: 3 | G39: 54 | H39: 54 | I39: 0 | K39: 3
D40: 概率论与数理统计 | E40: Probability and Mathematical Statistics | F40: 3 | G40: 54 | H40: 54 | I40: 0 | L40: 3
...

Sheet 附表二
A1: 附表二
A2: 各学期学分分配表
A3: 课程 类别 | B3: 课程 性质 | C3: 总学分 | D3: 总学时 | E3: 学分与学期分配
E4: 一 | F4: 二 | G4: 三 | H4: 四 | I4: 五 | J4: 六 | K4: 七 | L4: 八
A5: 公共教育 | B5: 必修课 | C5: 49 | D5: =附表一!G31 -> 1034 | E5: =附表一!J31 -> 12 | F5: =附表一!K31 -> 12 | G5: =附表一!L31 -> 10 | H5: =附表一!M31 -> 11 | I5: =附表一!N31 -> 2 | J5: =附表一!O31 -> 2 | K5: =附表一!P31 -> 0 | L5: =附表一!Q31 -> 0
B6: 选修课 | C6: 8 | D6: =附表一!G34 -> 145 | E6: 0 | F6: 2 | G6: 0 | H6: 0 | I6: 2 | J6: 2 | K6: 2 | L6: 0
A7: 专业教育 | B7: 必修课 | C7: 64 | D7: =附表一!G58 -> 1178 | E7: =附表一!J58 -> 13 | F7: =附表一!K58 -> 8 | G7: =附表一!L58 -> 10 | H7: =附表一!M58 -> 12 | I7: =附表一!N58 -> 9 | J7: =附表一!O58 -> 3 | K7: =附表一!P58 -> 2 | L7: =附表一!Q58 -> 7
B8: 选修课 | C8: 35 | D8: =附表一!G95 -> 651 | E8: =附表一!J95 -> 0 | F8: =附表一!K95 -> 4 | G8: =附表一!L95 -> 3 | H8: =附表一!M95 -> 3 | I8: =附表一!N95 -> 9 | J8: =附表一!O95 -> 12 | K8: =附表一!P95 -> 4 | L8: =附表一!Q95 -> 0
A9: 总计 | C9: =SUM(C5:C8) -> 156 | D9: =SUM(D5:D8) -> 3008 | E9: =SUM(E5:E8) -> 25 | F9: =SUM(F5:F8) -> 26 | G9: =SUM(G5:G8) -> 23 | H9: =SUM(H5:H8) -> 26 | I9: =SUM(I5:I8) -> 22 | J9: =SUM(J5:J8) -> 19 | ... L9: =SUM(L5:L8) -> 7
A10: 特别说明 | C10: 数学与应用数学专业实习学期为第（ 7-8 ）学期，除实习学期和第八学期外，每学期修读的各类课程总学分上限为（ 26 ）学分。

Sheet 附表三
A2: 实践教学计划表
A3: 课程类别 | B3: 课程性质 | C3: 课程名称 | D3: 学分 | E3: 开设学时或周数 | F3: 开设学期
A4: 实践教学 | B4: 必修课 | C4: 体育（一） | D4: 1 | E4: 36 | F4: 第一学期
C5: 体育（二） | D5: 1 | E5: 36 | F5: 第二学期
C6: 体育（三） | D6: 1 | E6: 36 | F6: 第三学期
C7: 体育（四） | D7: 1 | E7: 36 | F7: 第四学期
C8: 军事技能 | D8: 2 | E8: 112 | F8: 第一学期
C9: 创业基础（实践） | D9: 2 | E9: 40 | F9: 第五学期
C10: 计算机编程(Python) | D10: 3 | E10: 60 | F10: 第一学期
C11: 数学实验 | D11: 3 | E11: 60 | F11: 第四学期
C12: 专业实习 | D12: 3 | E12: 12周 | F12: 第八学期
C13: 就业指导（理论+实践） | D13: 2 | E13: 36 | F13: 第七学期
C14: 毕业论文（设计） | D14: 4 | E14: 12周 | F14: 第八学期
B15: 小计 | D15: =SUM(D4:D14) -> 23 | E15: 592
B16: 选修课 | C16: 图像处理 | D16: 3 | E16: 60 | F16: 第六学期
C17: 博弈论及其应用 | D17: 2 | E17: 40 | F17: 第三学期
C18: 深度学习基础与应用 | D18: 3 | E18: 60 | F18: 第六学期
C19: 前沿数学专题讲座 | D19: 2 | E19: 40 | F19: 第七学期
C20: 金融计算 | D20: 3 | E20: 60 | F20: 第五学期
C21: Python数据分析 | D21: 3 | E21: 60 | F21: 第五学期
C22: 应用随机过程 | D22: 3 | E22: 60 | F22: 第六学期
C23: 应用统计 | D23: 3 | E23: 60 | F23: 第四学期
C24: 人工智能基础与应用 | D24: 2 | E24: 40 | F24: 第四学期
C25: 人工智能赋能数学研究 | D25: 3 | E25: 60 | F25: 第五学期
C26: 人工智能赋能数学教育 | D26: 3 | E26: 60 | F26: 第四学期
B27: 小计 | D27: =SUM(D16:D26) -> 30 | E27: 600
A28: 合计 | D28: =SUM(D27,D15) -> 53 | E28: 1192
A29: 实践教学学分占比 | D29: =D28/156 -> 0.33974359
A30: 备注：列出实验、实践、实训等实践教学课程的安排，包括独立设置的实验、实践、实训课程以及其他实验、实践、实训学时≥50%的课程。集中性实践教学环节原则上按1周为1学分。
